BEGIN:VCALENDAR
VERSION:2.0
PRODID:-//UO Eventine - ECPv5.2.1//NONSGML v1.0//EN
CALSCALE:GREGORIAN
METHOD:PUBLISH
X-WR-CALNAME:UO Eventine
X-ORIGINAL-URL:https://uoeventine.net
X-WR-CALDESC:Events for UO Eventine
BEGIN:VTIMEZONE
TZID:UTC
BEGIN:STANDARD
TZOFFSETFROM:+0000
TZOFFSETTO:+0000
TZNAME:UTC
DTSTART:20220101T000000
END:STANDARD
END:VTIMEZONE
BEGIN:VEVENT
DTSTART;TZID=UTC:20220807T120000
DTEND;TZID=UTC:20220807T150000
DTSTAMP:20260421T174031
CREATED:20220720T171922Z
LAST-MODIFIED:20220720T171922Z
UID:1812-1659873600-1659884400@uoeventine.net
SUMMARY:Grand Auction
DESCRIPTION:There will be a Grand Auction held on August 7th\, 2022 shortly after the Server Restart (12:00 PM CST USA).
URL:https://uoeventine.net/event/grand-auction-2/
END:VEVENT
BEGIN:VEVENT
DTSTART;TZID=UTC:20220820T000000
DTEND;TZID=UTC:20220828T000000
DTSTAMP:20260421T174031
CREATED:20220725T155939Z
LAST-MODIFIED:20220725T160705Z
UID:1814-1660953600-1661644800@uoeventine.net
SUMMARY:Oyster Fishing Event
DESCRIPTION:The Oyster Fishing Event will take place this year Starting on the 21st of August and be active until the start of the day of August 28th.  You can find more information on this event on the wiki.
URL:https://uoeventine.net/event/oyster-fishing-event-2/
END:VEVENT
END:VCALENDAR