BEGIN:VCALENDAR
VERSION:2.0
PRODID:-//UO Eventine - ECPv5.2.1//NONSGML v1.0//EN
CALSCALE:GREGORIAN
METHOD:PUBLISH
X-WR-CALNAME:UO Eventine
X-ORIGINAL-URL:https://uoeventine.net
X-WR-CALDESC:Events for UO Eventine
BEGIN:VTIMEZONE
TZID:UTC
BEGIN:STANDARD
TZOFFSETFROM:+0000
TZOFFSETTO:+0000
TZNAME:UTC
DTSTART:20210101T000000
END:STANDARD
END:VTIMEZONE
BEGIN:VEVENT
DTSTART;TZID=UTC:20210601T000000
DTEND;TZID=UTC:20210701T000000
DTSTAMP:20260422T162446
CREATED:20210515T231751Z
LAST-MODIFIED:20210515T232032Z
UID:1725-1622505600-1625097600@uoeventine.net
SUMMARY:Spring Decoration Contest
DESCRIPTION:There will be a spring decoration contest in the month of June. More information will follow on the wiki page here.
URL:https://uoeventine.net/event/spring-decoration-contest/
END:VEVENT
BEGIN:VEVENT
DTSTART;TZID=UTC:20210601T000000
DTEND;TZID=UTC:20210701T000000
DTSTAMP:20260422T162446
CREATED:20210515T231853Z
LAST-MODIFIED:20210515T232101Z
UID:1727-1622505600-1625097600@uoeventine.net
SUMMARY:Spring Hunting Event
DESCRIPTION:There will be a spring Hunting event the entire month of June. More information on the wiki here.
URL:https://uoeventine.net/event/spring-hunting-event/
END:VEVENT
BEGIN:VEVENT
DTSTART;TZID=UTC:20210621T000000
DTEND;TZID=UTC:20210628T000000
DTSTAMP:20260422T162446
CREATED:20210515T231558Z
LAST-MODIFIED:20210515T231558Z
UID:1723-1624233600-1624838400@uoeventine.net
SUMMARY:Harry Potter Week
DESCRIPTION:7 days of various Harry Potter themed and inspired events.
URL:https://uoeventine.net/event/harry-potter-week/
END:VEVENT
END:VCALENDAR